Package: RGSEA Version: 1.40.0 Command: /Library/Frameworks/R.framework/Resources/bin/R CMD build --keep-empty-dirs --no-resave-data RGSEA StartedAt: 2025-01-30 22:14:54 -0500 (Thu, 30 Jan 2025) EndedAt: 2025-01-30 22:16:05 -0500 (Thu, 30 Jan 2025) EllapsedTime: 71.1 seconds RetCode: 0 Status: OK PackageFile: RGSEA_1.40.0.tar.gz PackageFileSize: 1.722 MiB