Package: RGSEA Version: 1.40.0 Command: /Library/Frameworks/R.framework/Resources/bin/R CMD check --install=check:RGSEA.install-out.txt --library=/Library/Frameworks/R.framework/Resources/library --no-vignettes --timings RGSEA_1.40.0.tar.gz StartedAt: 2025-01-31 08:55:55 -0500 (Fri, 31 Jan 2025) EndedAt: 2025-01-31 08:57:06 -0500 (Fri, 31 Jan 2025) EllapsedTime: 70.8 seconds RetCode: 0 Status: OK CheckDir: RGSEA.Rcheck Warnings: 0