Package: RGSEA Version: 1.40.0 Command: /home/biocbuild/bbs-3.20-bioc/R/bin/R CMD build --keep-empty-dirs --no-resave-data --md5 RGSEA StartedAt: 2025-02-10 18:51:22 -0500 (Mon, 10 Feb 2025) EndedAt: 2025-02-10 18:51:59 -0500 (Mon, 10 Feb 2025) EllapsedTime: 37.0 seconds RetCode: 0 Status: OK PackageFile: RGSEA_1.40.0.tar.gz PackageFileSize: 1.724 MiB