Package: RGSEA Version: 1.40.0 Command: /home/biocbuild/bbs-3.20-bioc/R/bin/R CMD INSTALL RGSEA StartedAt: 2025-02-10 15:11:56 -0500 (Mon, 10 Feb 2025) EndedAt: 2025-02-10 15:12:09 -0500 (Mon, 10 Feb 2025) EllapsedTime: 12.9 seconds RetCode: 0 Status: OK