Package: RGSEA Version: 1.40.0 Command: rm -rf RGSEA.buildbin-libdir && mkdir RGSEA.buildbin-libdir && F:\biocbuild\bbs-3.20-bioc\R\bin\R.exe CMD INSTALL --build --library=RGSEA.buildbin-libdir RGSEA_1.40.0.tar.gz StartedAt: 2025-02-04 09:20:11 -0500 (Tue, 04 Feb 2025) EndedAt: 2025-02-04 09:20:20 -0500 (Tue, 04 Feb 2025) EllapsedTime: 8.2 seconds RetCode: 0 Status: OK PackageFile: RGSEA_1.40.0.zip PackageFileSize: 1.753 MiB