Package: RGSEA Version: 1.40.0 Command: /home/biocbuild/R/R/bin/R CMD INSTALL RGSEA StartedAt: 2025-02-10 20:08:48 -0000 (Mon, 10 Feb 2025) EndedAt: 2025-02-10 20:09:15 -0000 (Mon, 10 Feb 2025) EllapsedTime: 26.9 seconds RetCode: 0 Status: OK