Package: RGraph2js Version: 1.34.0 Command: /Library/Frameworks/R.framework/Resources/bin/R CMD INSTALL RGraph2js StartedAt: 2025-02-03 15:51:06 -0500 (Mon, 03 Feb 2025) EndedAt: 2025-02-03 15:51:12 -0500 (Mon, 03 Feb 2025) EllapsedTime: 6.7 seconds RetCode: 0 Status: OK