Package: RGraph2js
Version: 1.33.0
Command: chmod a+r RGraph2js -R && F:\biocbuild\bbs-3.20-bioc\R\bin\R.exe CMD build --keep-empty-dirs --no-resave-data RGraph2js
StartedAt: 2024-06-09 21:41:57 -0400 (Sun, 09 Jun 2024)
EndedAt: 2024-06-09 21:42:35 -0400 (Sun, 09 Jun 2024)
EllapsedTime: 38.7 seconds
RetCode: 0
Status: OK
PackageFile: RGraph2js_1.33.0.tar.gz
PackageFileSize: 2.348 <A href="http://en.wikipedia.org/wiki/MiB" target="_blank">MiB</A>