Package: RGraph2js Version: 1.34.0 Command: /home/biocbuild/R/R/bin/R CMD build --keep-empty-dirs --no-resave-data RGraph2js StartedAt: 2025-02-04 02:14:26 -0000 (Tue, 04 Feb 2025) EndedAt: 2025-02-04 02:14:38 -0000 (Tue, 04 Feb 2025) EllapsedTime: 12.0 seconds RetCode: 0 Status: OK PackageFile: RGraph2js_1.34.0.tar.gz PackageFileSize: 2.334 MiB