Package: RGraph2js Version: 1.34.0 Command: /home/biocbuild/R/R/bin/R CMD INSTALL RGraph2js StartedAt: 2025-02-03 20:46:47 -0000 (Mon, 03 Feb 2025) EndedAt: 2025-02-03 20:46:51 -0000 (Mon, 03 Feb 2025) EllapsedTime: 3.8 seconds RetCode: 0 Status: OK