Package: RITAN Version: 1.30.0 Command: /Library/Frameworks/R.framework/Resources/bin/R CMD check --install=check:RITAN.install-out.txt --library=/Library/Frameworks/R.framework/Resources/library --no-vignettes --timings RITAN_1.30.0.tar.gz StartedAt: 2025-02-05 07:40:32 -0500 (Wed, 05 Feb 2025) EndedAt: 2025-02-05 07:46:29 -0500 (Wed, 05 Feb 2025) EllapsedTime: 357.2 seconds RetCode: 0 Status: WARNINGS CheckDir: RITAN.Rcheck Warnings: 1