Package: RITAN Version: 1.30.0 Command: /Library/Frameworks/R.framework/Resources/bin/R CMD check --install=check:RITAN.install-out.txt --library=/Library/Frameworks/R.framework/Resources/library --no-vignettes --timings RITAN_1.30.0.tar.gz StartedAt: 2025-02-04 09:00:36 -0500 (Tue, 04 Feb 2025) EndedAt: 2025-02-04 09:10:33 -0500 (Tue, 04 Feb 2025) EllapsedTime: 597.0 seconds RetCode: 0 Status: WARNINGS CheckDir: RITAN.Rcheck Warnings: 1