Package: RITAN Version: 1.30.0 Command: chmod a+r RITAN -R && F:\biocbuild\bbs-3.20-bioc\R\bin\R.exe CMD build --keep-empty-dirs --no-resave-data RITAN StartedAt: 2025-02-03 21:41:59 -0500 (Mon, 03 Feb 2025) EndedAt: 2025-02-03 21:44:31 -0500 (Mon, 03 Feb 2025) EllapsedTime: 152.0 seconds RetCode: 0 Status: OK PackageFile: RITAN_1.30.0.tar.gz PackageFileSize: 350.7 KiB