Package: RITAN Version: 1.30.0 Command: /home/biocbuild/R/R/bin/R CMD build --keep-empty-dirs --no-resave-data RITAN StartedAt: 2025-02-11 01:57:18 -0000 (Tue, 11 Feb 2025) EndedAt: 2025-02-11 01:59:35 -0000 (Tue, 11 Feb 2025) EllapsedTime: 137.0 seconds RetCode: 0 Status: OK PackageFile: RITAN_1.30.0.tar.gz PackageFileSize: 423 KiB