Package: RIVER Version: 1.30.0 Command: /Library/Frameworks/R.framework/Resources/bin/R CMD build --keep-empty-dirs --no-resave-data RIVER StartedAt: 2025-01-31 06:34:19 -0500 (Fri, 31 Jan 2025) EndedAt: 2025-01-31 06:34:47 -0500 (Fri, 31 Jan 2025) EllapsedTime: 28.2 seconds RetCode: 0 Status: OK PackageFile: RIVER_1.30.0.tar.gz PackageFileSize: 1.471 MiB