Package: RIVER Version: 1.30.0 Command: /Library/Frameworks/R.framework/Resources/bin/R CMD INSTALL RIVER StartedAt: 2025-01-30 17:25:15 -0500 (Thu, 30 Jan 2025) EndedAt: 2025-01-30 17:25:25 -0500 (Thu, 30 Jan 2025) EllapsedTime: 9.2 seconds RetCode: 0 Status: OK