Package: RIVER Version: 1.30.0 Command: /Library/Frameworks/R.framework/Resources/bin/R CMD check --install=check:RIVER.install-out.txt --library=/Library/Frameworks/R.framework/Resources/library --no-vignettes --timings RIVER_1.30.0.tar.gz StartedAt: 2025-01-31 09:01:13 -0500 (Fri, 31 Jan 2025) EndedAt: 2025-01-31 09:04:00 -0500 (Fri, 31 Jan 2025) EllapsedTime: 166.8 seconds RetCode: 0 Status: OK CheckDir: RIVER.Rcheck Warnings: 0