Package: RJMCMCNucleosomes Version: 1.30.0 Command: /Library/Frameworks/R.framework/Resources/bin/R CMD build --keep-empty-dirs --no-resave-data RJMCMCNucleosomes StartedAt: 2025-02-04 06:45:03 -0500 (Tue, 04 Feb 2025) EndedAt: 2025-02-04 06:46:30 -0500 (Tue, 04 Feb 2025) EllapsedTime: 87.6 seconds RetCode: 0 Status: OK PackageFile: RJMCMCNucleosomes_1.30.0.tar.gz PackageFileSize: 721.8 KiB