Package: RJMCMCNucleosomes
Version: 1.30.0
Command: rm -rf RJMCMCNucleosomes.buildbin-libdir && mkdir RJMCMCNucleosomes.buildbin-libdir && /Users/biocbuild/BBS/utils/build-universal.sh RJMCMCNucleosomes_1.30.0.tar.gz /Library/Frameworks/R.framework/Resources/bin/R RJMCMCNucleosomes.buildbin-libdir
StartedAt: 2024-11-20 04:46:49 -0500 (Wed, 20 Nov 2024)
EndedAt: 2024-11-20 04:47:57 -0500 (Wed, 20 Nov 2024)
EllapsedTime: 67.3 seconds
RetCode: 0
Status: OK
PackageFile: RJMCMCNucleosomes_1.30.0.tgz
PackageFileSize: 899.4 <A href="http://en.wikipedia.org/wiki/KiB" target="_blank">KiB</A>