Package: RJMCMCNucleosomes Version: 1.30.0 Command: /Library/Frameworks/R.framework/Resources/bin/R CMD INSTALL RJMCMCNucleosomes StartedAt: 2025-02-03 15:43:41 -0500 (Mon, 03 Feb 2025) EndedAt: 2025-02-03 15:45:17 -0500 (Mon, 03 Feb 2025) EllapsedTime: 95.7 seconds RetCode: 0 Status: OK