Package: RJMCMCNucleosomes Version: 1.30.0 Command: chmod a+r RJMCMCNucleosomes -R && F:\biocbuild\bbs-3.20-bioc\R\bin\R.exe CMD build --keep-empty-dirs --no-resave-data RJMCMCNucleosomes StartedAt: 2025-02-03 21:42:06 -0500 (Mon, 03 Feb 2025) EndedAt: 2025-02-03 21:44:00 -0500 (Mon, 03 Feb 2025) EllapsedTime: 114.2 seconds RetCode: 0 Status: OK PackageFile: RJMCMCNucleosomes_1.30.0.tar.gz PackageFileSize: 561.7 KiB