Package: RJMCMCNucleosomes Version: 1.30.0 Command: /home/biocbuild/R/R/bin/R CMD build --keep-empty-dirs --no-resave-data RJMCMCNucleosomes StartedAt: 2025-02-04 02:18:35 -0000 (Tue, 04 Feb 2025) EndedAt: 2025-02-04 02:20:25 -0000 (Tue, 04 Feb 2025) EllapsedTime: 110.1 seconds RetCode: 0 Status: OK PackageFile: RJMCMCNucleosomes_1.30.0.tar.gz PackageFileSize: 689.3 KiB