Package: RLassoCox Version: 1.14.0 Command: /Library/Frameworks/R.framework/Resources/bin/R CMD check --install=check:RLassoCox.install-out.txt --library=/Library/Frameworks/R.framework/Resources/library --no-vignettes --timings RLassoCox_1.14.0.tar.gz StartedAt: 2025-02-01 06:57:26 -0500 (Sat, 01 Feb 2025) EndedAt: 2025-02-01 07:01:40 -0500 (Sat, 01 Feb 2025) EllapsedTime: 253.5 seconds RetCode: 0 Status: OK CheckDir: RLassoCox.Rcheck Warnings: 0