Package: RLassoCox Version: 1.14.0 Command: /Library/Frameworks/R.framework/Resources/bin/R CMD INSTALL RLassoCox StartedAt: 2025-01-30 17:14:11 -0500 (Thu, 30 Jan 2025) EndedAt: 2025-01-30 17:14:17 -0500 (Thu, 30 Jan 2025) EllapsedTime: 6.6 seconds RetCode: 0 Status: OK