Package: RLassoCox Version: 1.14.0 Command: /home/biocbuild/R/R/bin/R CMD build --keep-empty-dirs --no-resave-data RLassoCox StartedAt: 2024-11-20 03:24:17 -0000 (Wed, 20 Nov 2024) EndedAt: 2024-11-20 03:26:19 -0000 (Wed, 20 Nov 2024) EllapsedTime: 122.2 seconds RetCode: 0 Status: OK PackageFile: RLassoCox_1.14.0.tar.gz PackageFileSize: 1.994 MiB