Package: RLassoCox Version: 1.14.0 Command: /Library/Frameworks/R.framework/Resources/bin/R CMD build --keep-empty-dirs --no-resave-data RLassoCox StartedAt: 2025-01-30 22:17:46 -0500 (Thu, 30 Jan 2025) EndedAt: 2025-01-30 22:19:38 -0500 (Thu, 30 Jan 2025) EllapsedTime: 111.1 seconds RetCode: 0 Status: OK PackageFile: RLassoCox_1.14.0.tar.gz PackageFileSize: 1.966 MiB