Package: RLassoCox Version: 1.14.0 Command: /Library/Frameworks/R.framework/Resources/bin/R CMD check --install=check:RLassoCox.install-out.txt --library=/Library/Frameworks/R.framework/Resources/library --no-vignettes --timings RLassoCox_1.14.0.tar.gz StartedAt: 2025-01-31 09:01:19 -0500 (Fri, 31 Jan 2025) EndedAt: 2025-01-31 09:07:04 -0500 (Fri, 31 Jan 2025) EllapsedTime: 345.0 seconds RetCode: 0 Status: OK CheckDir: RLassoCox.Rcheck Warnings: 0