Package: RLassoCox Version: 1.14.0 Command: /home/biocbuild/bbs-3.20-bioc/R/bin/R CMD check --install=check:RLassoCox.install-out.txt --library=/home/biocbuild/bbs-3.20-bioc/R/site-library --timings RLassoCox_1.14.0.tar.gz StartedAt: 2025-02-04 01:50:10 -0500 (Tue, 04 Feb 2025) EndedAt: 2025-02-04 01:55:25 -0500 (Tue, 04 Feb 2025) EllapsedTime: 314.4 seconds RetCode: 0 Status: OK CheckDir: RLassoCox.Rcheck Warnings: 0