Package: RLassoCox Version: 1.14.0 Command: /home/biocbuild/bbs-3.20-bioc/R/bin/R CMD INSTALL RLassoCox StartedAt: 2025-01-30 15:42:55 -0500 (Thu, 30 Jan 2025) EndedAt: 2025-01-30 15:43:01 -0500 (Thu, 30 Jan 2025) EllapsedTime: 6.5 seconds RetCode: 0 Status: OK