Package: RLassoCox Version: 1.14.0 Command: chmod a+r RLassoCox -R && F:\biocbuild\bbs-3.20-bioc\R\bin\R.exe CMD build --keep-empty-dirs --no-resave-data RLassoCox StartedAt: 2025-01-30 21:26:12 -0500 (Thu, 30 Jan 2025) EndedAt: 2025-01-30 21:28:07 -0500 (Thu, 30 Jan 2025) EllapsedTime: 115.4 seconds RetCode: 0 Status: OK PackageFile: RLassoCox_1.14.0.tar.gz PackageFileSize: 1.967 MiB