Package: RLassoCox Version: 1.14.0 Command: /home/biocbuild/R/R/bin/R CMD build --keep-empty-dirs --no-resave-data RLassoCox StartedAt: 2025-01-31 02:12:44 -0000 (Fri, 31 Jan 2025) EndedAt: 2025-01-31 02:13:56 -0000 (Fri, 31 Jan 2025) EllapsedTime: 72.1 seconds RetCode: 0 Status: OK PackageFile: RLassoCox_1.14.0.tar.gz PackageFileSize: 1.994 MiB