Package: RMassBank Version: 3.16.0 Command: /Library/Frameworks/R.framework/Resources/bin/R CMD build --keep-empty-dirs --no-resave-data RMassBank StartedAt: 2025-01-31 06:36:24 -0500 (Fri, 31 Jan 2025) EndedAt: 2025-01-31 06:43:41 -0500 (Fri, 31 Jan 2025) EllapsedTime: 437.2 seconds RetCode: 0 Status: OK PackageFile: RMassBank_3.16.0.tar.gz PackageFileSize: 1.839 MiB