Package: RMassBank Version: 3.16.0 Command: /Library/Frameworks/R.framework/Resources/bin/R CMD INSTALL RMassBank StartedAt: 2025-01-30 17:59:23 -0500 (Thu, 30 Jan 2025) EndedAt: 2025-01-30 18:00:18 -0500 (Thu, 30 Jan 2025) EllapsedTime: 55.0 seconds RetCode: 0 Status: OK