Package: RMassBank Version: 3.16.0 Command: /Library/Frameworks/R.framework/Resources/bin/R CMD build --keep-empty-dirs --no-resave-data RMassBank StartedAt: 2025-01-30 22:18:22 -0500 (Thu, 30 Jan 2025) EndedAt: 2025-01-30 22:37:16 -0500 (Thu, 30 Jan 2025) EllapsedTime: 1133.9 seconds RetCode: 0 Status: OK PackageFile: RMassBank_3.16.0.tar.gz PackageFileSize: 1.839 MiB