Package: RMassBank Version: 3.16.0 Command: /Library/Frameworks/R.framework/Resources/bin/R CMD check --install=check:RMassBank.install-out.txt --library=/Library/Frameworks/R.framework/Resources/library --no-vignettes --timings RMassBank_3.16.0.tar.gz StartedAt: 2025-01-31 09:02:07 -0500 (Fri, 31 Jan 2025) EndedAt: 2025-01-31 09:13:14 -0500 (Fri, 31 Jan 2025) EllapsedTime: 666.9 seconds RetCode: 0 Status: OK CheckDir: RMassBank.Rcheck Warnings: 0