Package: RMassBank Version: 3.16.0 Command: /home/biocbuild/bbs-3.20-bioc/R/bin/R CMD build --keep-empty-dirs --no-resave-data --md5 RMassBank StartedAt: 2025-01-30 18:51:30 -0500 (Thu, 30 Jan 2025) EndedAt: 2025-01-30 18:58:06 -0500 (Thu, 30 Jan 2025) EllapsedTime: 396.5 seconds RetCode: 0 Status: OK PackageFile: RMassBank_3.16.0.tar.gz PackageFileSize: 1.848 MiB