Package: RMassBank Version: 3.16.0 Command: /home/biocbuild/R/R/bin/R CMD INSTALL RMassBank StartedAt: 2025-01-30 21:01:48 -0000 (Thu, 30 Jan 2025) EndedAt: 2025-01-30 21:02:48 -0000 (Thu, 30 Jan 2025) EllapsedTime: 60.0 seconds RetCode: 0 Status: OK