Package: RNASeqPower Version: 1.46.0 Command: rm -rf RNASeqPower.buildbin-libdir && mkdir RNASeqPower.buildbin-libdir && /Users/biocbuild/BBS/utils/build-universal.sh RNASeqPower_1.46.0.tar.gz /Library/Frameworks/R.framework/Resources/bin/R RNASeqPower.buildbin-libdir StartedAt: 2025-01-31 13:33:31 -0500 (Fri, 31 Jan 2025) EndedAt: 2025-01-31 13:33:36 -0500 (Fri, 31 Jan 2025) EllapsedTime: 5.2 seconds RetCode: 0 Status: OK PackageFile: RNASeqPower_1.46.0.tgz PackageFileSize: 198.1 KiB