Package: RNASeqPower Version: 1.46.0 Command: /Library/Frameworks/R.framework/Resources/bin/R CMD build --keep-empty-dirs --no-resave-data RNASeqPower StartedAt: 2025-01-30 22:20:59 -0500 (Thu, 30 Jan 2025) EndedAt: 2025-01-30 22:21:12 -0500 (Thu, 30 Jan 2025) EllapsedTime: 12.9 seconds RetCode: 0 Status: OK PackageFile: RNASeqPower_1.46.0.tar.gz PackageFileSize: 190.7 KiB