Package: RNASeqPower Version: 1.46.0 Command: /Library/Frameworks/R.framework/Resources/bin/R CMD check --install=check:RNASeqPower.install-out.txt --library=/Library/Frameworks/R.framework/Resources/library --no-vignettes --timings RNASeqPower_1.46.0.tar.gz StartedAt: 2025-01-31 09:08:06 -0500 (Fri, 31 Jan 2025) EndedAt: 2025-01-31 09:08:43 -0500 (Fri, 31 Jan 2025) EllapsedTime: 36.4 seconds RetCode: 0 Status: OK CheckDir: RNASeqPower.Rcheck Warnings: 0