Package: RNASeqPower Version: 1.46.0 Command: /Library/Frameworks/R.framework/Resources/bin/R CMD INSTALL RNASeqPower StartedAt: 2025-01-30 15:10:33 -0500 (Thu, 30 Jan 2025) EndedAt: 2025-01-30 15:11:05 -0500 (Thu, 30 Jan 2025) EllapsedTime: 31.4 seconds RetCode: 0 Status: OK