Package: RNASeqPower Version: 1.46.0 Command: chmod a+r RNASeqPower -R && F:\biocbuild\bbs-3.20-bioc\R\bin\R.exe CMD build --keep-empty-dirs --no-resave-data RNASeqPower StartedAt: 2025-01-30 21:28:09 -0500 (Thu, 30 Jan 2025) EndedAt: 2025-01-30 21:28:20 -0500 (Thu, 30 Jan 2025) EllapsedTime: 11.2 seconds RetCode: 0 Status: OK PackageFile: RNASeqPower_1.46.0.tar.gz PackageFileSize: 110.9 KiB