Package: RNASeqPower Version: 1.46.0 Command: /home/biocbuild/R/R/bin/R CMD INSTALL RNASeqPower StartedAt: 2025-01-30 20:09:35 -0000 (Thu, 30 Jan 2025) EndedAt: 2025-01-30 20:10:08 -0000 (Thu, 30 Jan 2025) EllapsedTime: 32.7 seconds RetCode: 0 Status: OK