Package: RNAdecay Version: 1.26.0 Command: /home/biocbuild/R/R/bin/R CMD check --install=check:RNAdecay.install-out.txt --library=/home/biocbuild/R/R/site-library --no-vignettes --timings RNAdecay_1.26.0.tar.gz StartedAt: 2024-11-20 11:45:12 -0000 (Wed, 20 Nov 2024) EndedAt: 2024-11-20 11:45:45 -0000 (Wed, 20 Nov 2024) EllapsedTime: 32.1 seconds RetCode: 0 Status: WARNINGS CheckDir: RNAdecay.Rcheck Warnings: 1