Package: RNAdecay Version: 1.26.0 Command: rm -rf RNAdecay.buildbin-libdir && mkdir RNAdecay.buildbin-libdir && /Users/biocbuild/BBS/utils/build-universal.sh RNAdecay_1.26.0.tar.gz /Library/Frameworks/R.framework/Resources/bin/R RNAdecay.buildbin-libdir StartedAt: 2025-01-31 13:32:47 -0500 (Fri, 31 Jan 2025) EndedAt: 2025-01-31 13:46:29 -0500 (Fri, 31 Jan 2025) EllapsedTime: 821.9 seconds RetCode: 0 Status: OK PackageFile: RNAdecay_1.26.0.tgz PackageFileSize: 5.944 MiB