Package: RNAdecay Version: 1.26.0 Command: /home/biocbuild/bbs-3.20-bioc/R/bin/R CMD build --keep-empty-dirs --no-resave-data --md5 RNAdecay StartedAt: 2025-02-03 19:01:48 -0500 (Mon, 03 Feb 2025) EndedAt: 2025-02-03 19:13:00 -0500 (Mon, 03 Feb 2025) EllapsedTime: 671.8 seconds RetCode: 0 Status: OK PackageFile: RNAdecay_1.26.0.tar.gz PackageFileSize: 2.709 MiB