Package: RNAdecay Version: 1.26.0 Command: /home/biocbuild/bbs-3.20-bioc/R/bin/R CMD check --install=check:RNAdecay.install-out.txt --library=/home/biocbuild/bbs-3.20-bioc/R/site-library --timings RNAdecay_1.26.0.tar.gz StartedAt: 2025-02-04 01:51:33 -0500 (Tue, 04 Feb 2025) EndedAt: 2025-02-04 01:52:45 -0500 (Tue, 04 Feb 2025) EllapsedTime: 72.1 seconds RetCode: 0 Status: OK CheckDir: RNAdecay.Rcheck Warnings: 0