Package: RNAdecay Version: 1.26.0 Command: /home/biocbuild/bbs-3.20-bioc/R/bin/R CMD INSTALL RNAdecay StartedAt: 2025-02-03 15:18:52 -0500 (Mon, 03 Feb 2025) EndedAt: 2025-02-03 15:26:21 -0500 (Mon, 03 Feb 2025) EllapsedTime: 448.9 seconds RetCode: 0 Status: OK