Package: RNAdecay Version: 1.26.0 Command: rm -rf RNAdecay.buildbin-libdir && mkdir RNAdecay.buildbin-libdir && F:\biocbuild\bbs-3.20-bioc\R\bin\R.exe CMD INSTALL --build --library=RNAdecay.buildbin-libdir RNAdecay_1.26.0.tar.gz StartedAt: 2025-02-04 09:22:00 -0500 (Tue, 04 Feb 2025) EndedAt: 2025-02-04 09:22:23 -0500 (Tue, 04 Feb 2025) EllapsedTime: 23.2 seconds RetCode: 0 Status: OK PackageFile: RNAdecay_1.26.0.zip PackageFileSize: 7.225 MiB