Package: RNAdecay Version: 1.26.0 Command: chmod a+r RNAdecay -R && F:\biocbuild\bbs-3.20-bioc\R\bin\R.exe CMD build --keep-empty-dirs --no-resave-data RNAdecay StartedAt: 2025-02-03 21:43:26 -0500 (Mon, 03 Feb 2025) EndedAt: 2025-02-03 21:47:20 -0500 (Mon, 03 Feb 2025) EllapsedTime: 234.3 seconds RetCode: 0 Status: OK PackageFile: RNAdecay_1.26.0.tar.gz PackageFileSize: 7.192 MiB